BEGIN:VCALENDAR
VERSION:2.0
PRODID:-//prarc.tech - ECPv6.15.20//NONSGML v1.0//EN
CALSCALE:GREGORIAN
METHOD:PUBLISH
X-WR-CALNAME:prarc.tech
X-ORIGINAL-URL:https://prarc.tech
X-WR-CALDESC:Events for prarc.tech
REFRESH-INTERVAL;VALUE=DURATION:PT1H
X-Robots-Tag:noindex
X-PUBLISHED-TTL:PT1H
BEGIN:VTIMEZONE
TZID:America/Toronto
BEGIN:DAYLIGHT
TZOFFSETFROM:-0500
TZOFFSETTO:-0400
TZNAME:EDT
DTSTART:20240310T070000
END:DAYLIGHT
BEGIN:STANDARD
TZOFFSETFROM:-0400
TZOFFSETTO:-0500
TZNAME:EST
DTSTART:20241103T060000
END:STANDARD
BEGIN:DAYLIGHT
TZOFFSETFROM:-0500
TZOFFSETTO:-0400
TZNAME:EDT
DTSTART:20250309T070000
END:DAYLIGHT
BEGIN:STANDARD
TZOFFSETFROM:-0400
TZOFFSETTO:-0500
TZNAME:EST
DTSTART:20251102T060000
END:STANDARD
BEGIN:DAYLIGHT
TZOFFSETFROM:-0500
TZOFFSETTO:-0400
TZNAME:EDT
DTSTART:20260308T070000
END:DAYLIGHT
BEGIN:STANDARD
TZOFFSETFROM:-0400
TZOFFSETTO:-0500
TZNAME:EST
DTSTART:20261101T060000
END:STANDARD
END:VTIMEZONE
BEGIN:VEVENT
DTSTART;TZID=America/Toronto:20250302T130000
DTEND;TZID=America/Toronto:20250302T143000
DTSTAMP:20260421T070437
CREATED:20250116T185834Z
LAST-MODIFIED:20250116T185834Z
UID:1105-1740920400-1740925800@prarc.tech
SUMMARY:TransCanada Net – Lance VA3LP
DESCRIPTION:Join us on the TransCanada Net\, hosted by the ever-engaging Lance VA3LP! Every Sunday from 13:00 to 14:30\, ham operators from across Canada\, the USA\, and around the globe come together on the TransCanada Hub. It’s a unique opportunity to mingle\, share experiences\, and dive into diverse topics that change every week. Whether you’re a seasoned operator or new to the airwaves\, everyone’s welcome to join the conversation. Mark your calendars and be part of this vibrant community—let’s make Sundays the best day of the week! 🚀📡🎙️
URL:https://prarc.tech/calendar/transcanada-net-lance-va3lp-3/
LOCATION:TransCanada Net
CATEGORIES:TransCanada Net
ORGANIZER;CN="Lance - VA3LP":MAILTO:va3lp1@gmail.com
END:VEVENT
BEGIN:VEVENT
DTSTART;TZID=America/Toronto:20250304T173000
DTEND;TZID=America/Toronto:20250304T183000
DTSTAMP:20260421T070437
CREATED:20250116T185545Z
LAST-MODIFIED:20250116T185545Z
UID:1103-1741109400-1741113000@prarc.tech
SUMMARY:A & W
DESCRIPTION:A&W is a beloved fast-food restaurant. Known for its great-tasting burgers\, handmade onion rings\, and frosted mugs of famous A&W Root Beer\, it’s a go-to spot for locals and visitors alike. The restaurant also offers a variety of other delicious menu items\, including chicken sandwiches\, hot dogs\, and salads. \nA&W Rockland is open from 8:00 AM to 10:00 PM\, making it a convenient choice for breakfast\, lunch\, dinner\, or a late-night snack. With its friendly staff\, clean environment\, and tasty food\, it’s no wonder A&W has become a staple in the community. Whether you’re dining in\, ordering takeout\, or using the drive-thru\, A&W Rockland offers a satisfying and enjoyable dining experience for everyone.
URL:https://prarc.tech/calendar/a-w-3/
LOCATION:A & W\, 2736 Chamberland St\, Rockland\, ON\, K4K 0B2\, Canada
CATEGORIES:Restaurant
ATTACH;FMTTYPE=image/webp:https://prarc.tech/wp-content/uploads/2024/11/A-W.webp
ORGANIZER;CN="Lance - VA3LP":MAILTO:va3lp1@gmail.com
END:VEVENT
BEGIN:VEVENT
DTSTART;TZID=America/Toronto:20250304T190000
DTEND;TZID=America/Toronto:20250304T210000
DTSTAMP:20260421T070437
CREATED:20250116T184623Z
LAST-MODIFIED:20250116T184623Z
UID:1095-1741114800-1741122000@prarc.tech
SUMMARY:PRARC Business Meeting – Lance VA3LP
DESCRIPTION:Join us for the PRARC Business Meeting at the Rockland Arena on Hwy 17! The meeting will start at 7:00 PM. This is a great opportunity for all members to come together\, discuss club business\, and participate in important decisions. Everyone is welcome to attend and contribute to the discussions.
URL:https://prarc.tech/calendar/prarc-business-meeting-lance-va3lp-5/
LOCATION:PRARC Business Meeting – Lance VA3LP\, 8710 County Road 17\, Rockland\, ON\, K4K 1T2\, Canada
CATEGORIES:PRARC Business Meeting
ATTACH;FMTTYPE=image/png:https://prarc.tech/wp-content/uploads/2024/11/Rockland-Arena.png
ORGANIZER;CN="Lance - VA3LP":MAILTO:va3lp1@gmail.com
END:VEVENT
BEGIN:VEVENT
DTSTART;TZID=America/Toronto:20250305T190000
DTEND;TZID=America/Toronto:20250305T210000
DTSTAMP:20260421T070437
CREATED:20250116T183912Z
LAST-MODIFIED:20250204T001805Z
UID:1087-1741201200-1741208400@prarc.tech
SUMMARY:Wednesday Night Video – Gilles VE3NPI
DESCRIPTION:Join us every Wednesday night from 7:00 PM to 9:00 PM for our weekly video sessions! These gatherings are designed to foster camaraderie among ham operators in an informal setting. Everyone is welcome to join\, whether you’re licensed or not. \nUnlicensed attendees are encouraged to join and can gain valuable insights into the Amateur Radio community. It’s a great way to connect\, learn\, and enjoy some friendly conversation. See you there!
URL:https://prarc.tech/calendar/wednesday-night-video-gilles-16/
LOCATION:Wednesday Night Video – Gilles
CATEGORIES:Wednesday Night Video
ORGANIZER;CN="Gilles - VE3NPI":MAILTO:ve3npi@outlook.com
END:VEVENT
BEGIN:VEVENT
DTSTART;TZID=America/Toronto:20250306T190000
DTEND;TZID=America/Toronto:20250306T200000
DTSTAMP:20260421T070437
CREATED:20250203T203044Z
LAST-MODIFIED:20250203T203054Z
UID:1316-1741287600-1741291200@prarc.tech
SUMMARY:Triode Thursday NET – Pierre VE2PBS
DESCRIPTION:Calling all amateur radio enthusiasts! Join us for the Triode Thursday NET on the VE3PRV repeater\, your ultimate destination for engaging conversations and technical insights. Every Thursday at 7:00 PM\, we welcome operators of all experience levels to share their knowledge\, exchange ideas\, and make new connections within our vibrant community. Whether you’re a seasoned operator or just starting\, something exciting always happens on the airwaves. \nDon’t miss out on this weekly gathering of passionate hams! The Triode Thursday NET offers a welcoming and friendly environment where you can learn\, laugh\, and grow your skills. Mark your calendars and tune in to the VE3PRV repeater every Thursday at 7:00 PM. We can’t wait to hear you on the air!
URL:https://prarc.tech/calendar/triode-thursday-net-pierre-ve2pbs-2/
LOCATION:Triode Thursday Net
CATEGORIES:Triode Thursday Net
ATTACH;FMTTYPE=image/webp:https://prarc.tech/wp-content/uploads/2025/01/Pierre-VE2PBS-e1737922284770.webp
ORGANIZER;CN="Pierre - VE2PBS":MAILTO:ve2pbs@mailfence.com
END:VEVENT
BEGIN:VEVENT
DTSTART;TZID=America/Toronto:20250311T173000
DTEND;TZID=America/Toronto:20250311T183000
DTSTAMP:20260421T070437
CREATED:20250223T210706Z
LAST-MODIFIED:20250223T210706Z
UID:1383-1741714200-1741717800@prarc.tech
SUMMARY:St-Hubert Express
DESCRIPTION:St-Hubert Express is a convenient and quick option for a delicious meal on the go! This restaurant offers a variety of mouth-watering rotisserie dishes\, including BBQ chicken cooked to perfection\, fried chicken breast fillets\, and poutines. The friendly staff and welcoming atmosphere make it a great spot for families and individuals alike. \nWhether you’re in the mood for a quick takeout\, delivery\, or dining in\, St-Hubert Express has you covered. Their menu features a range of options to satisfy your cravings\, and their daily and weekly specials are a great way to enjoy their tasty offerings at a great price. Don’t forget to check out their drive-thru for a fast and easy meal solution!
URL:https://prarc.tech/calendar/st-hubert-express-3/
LOCATION:St-Hubert Express\, 9071 County Rd 17\, Rockland\, ON\, K4K 0B2\, Canada
CATEGORIES:Restaurant
ATTACH;FMTTYPE=image/webp:https://prarc.tech/wp-content/uploads/2024/11/St-Hubert.webp
ORGANIZER;CN="Lance - VA3LP":MAILTO:va3lp1@gmail.com
END:VEVENT
BEGIN:VEVENT
DTSTART;TZID=America/Toronto:20250311T190000
DTEND;TZID=America/Toronto:20250311T210000
DTSTAMP:20260421T070437
CREATED:20250223T204939Z
LAST-MODIFIED:20250223T204939Z
UID:1373-1741719600-1741726800@prarc.tech
SUMMARY:PRARC Meeting – Lance VA3LP
DESCRIPTION:Join us for the PRARC Meeting at the Rockland Arena on Hwy 17! The meeting will start at 7:00 PM. This is a great opportunity for all members to come together\, discuss club business\, and participate in important decisions. Everyone is welcome to attend and contribute to the discussions.
URL:https://prarc.tech/calendar/prarc-meeting-lance-va3lp-9/
LOCATION:PRARC Meeting – Lance VA3LP\, 8710 County Road 17\, Rockland\, ON\, K4K 1T2\, Canada
CATEGORIES:PRARC Meeting
ATTACH;FMTTYPE=image/png:https://prarc.tech/wp-content/uploads/2024/11/Rockland-Arena.png
ORGANIZER;CN="Lance - VA3LP":MAILTO:va3lp1@gmail.com
END:VEVENT
BEGIN:VEVENT
DTSTART;TZID=America/Toronto:20250312T190000
DTEND;TZID=America/Toronto:20250312T210000
DTSTAMP:20260421T070437
CREATED:20250223T202432Z
LAST-MODIFIED:20250223T202432Z
UID:1366-1741806000-1741813200@prarc.tech
SUMMARY:Wednesday Night Video – Gilles VE3NPI
DESCRIPTION:Join us every Wednesday night from 7:00 PM to 9:00 PM for our weekly video sessions! These gatherings are designed to foster camaraderie among ham operators in an informal setting. Everyone is welcome to join\, whether you’re licensed or not. \nUnlicensed attendees are encouraged to join and can gain valuable insights into the Amateur Radio community. It’s a great way to connect\, learn\, and enjoy some friendly conversation. See you there!
URL:https://prarc.tech/calendar/wednesday-night-video-gilles-ve3npi-2/
LOCATION:Wednesday Night Video – Gilles
CATEGORIES:Wednesday Night Video
ORGANIZER;CN="Gilles - VE3NPI":MAILTO:ve3npi@outlook.com
END:VEVENT
BEGIN:VEVENT
DTSTART;TZID=America/Toronto:20250313T190000
DTEND;TZID=America/Toronto:20250313T200000
DTSTAMP:20260421T070437
CREATED:20250223T211841Z
LAST-MODIFIED:20250223T211841Z
UID:1391-1741892400-1741896000@prarc.tech
SUMMARY:Triode Thursday NET – Lewis KC5RJL
DESCRIPTION:Calling all amateur radio enthusiasts! Join us for the Triode Thursday NET on the VE3PRV repeater\, your ultimate destination for engaging conversations and technical insights. Every Thursday at 7:00 PM\, we welcome operators of all experience levels to share their knowledge\, exchange ideas\, and make new connections within our vibrant community. Whether you’re a seasoned operator or just starting\, something exciting always happens on the airwaves. \nDon’t miss out on this weekly gathering of passionate hams! The Triode Thursday NET offers a welcoming and friendly environment where you can learn\, laugh\, and grow your skills. Mark your calendars and tune in to the VE3PRV repeater every Thursday at 7:00 PM. We can’t wait to hear you on the air!
URL:https://prarc.tech/calendar/triode-thursday-net-lewis-kc5rjl/
LOCATION:Triode Thursday Net
CATEGORIES:Triode Thursday Net
ATTACH;FMTTYPE=image/webp:https://prarc.tech/wp-content/uploads/2025/01/Lewis-KC5RJL.webp
ORGANIZER;CN="Lewis - KC5RJL":MAILTO:kc5rjl@yahoo.com
END:VEVENT
BEGIN:VEVENT
DTSTART;TZID=America/Toronto:20250318T173000
DTEND;TZID=America/Toronto:20250318T183000
DTSTAMP:20260421T070437
CREATED:20250223T210928Z
LAST-MODIFIED:20250223T210928Z
UID:1385-1742319000-1742322600@prarc.tech
SUMMARY:Boston Pizza
DESCRIPTION:Boston Pizza is a popular family restaurant and sports bar. Known as Canada’s No. 1 casual dining brand\, Boston Pizza offers many delicious menu items\, including gourmet pizzas\, hearty portions of pasta\, juicy burgers\, and their famous BP wings. Whether dining in\, ordering takeout\, or having it delivered\, Boston Pizza provides a casual and enjoyable dining experience for all ages. \nThe restaurant also features a sports bar\, making it the perfect spot to catch your favourite games while enjoying a meal with family and friends. With options for vegetarians\, gluten-free diets\, and kids\, there’s something for everyone on the menu. Don’t forget to check out their daily and weekly specials for great deals!
URL:https://prarc.tech/calendar/boston-pizza-3/
LOCATION:Boston Pizza\, 3002 Richelieu St\, Rockland\, ON\, K4K 0B5\, Canada
CATEGORIES:Restaurant
ATTACH;FMTTYPE=image/webp:https://prarc.tech/wp-content/uploads/2024/11/Boston-Pizza.webp
ORGANIZER;CN="Lance - VA3LP":MAILTO:va3lp1@gmail.com
END:VEVENT
BEGIN:VEVENT
DTSTART;TZID=America/Toronto:20250318T190000
DTEND;TZID=America/Toronto:20250318T210000
DTSTAMP:20260421T070437
CREATED:20250223T205143Z
LAST-MODIFIED:20250223T205143Z
UID:1375-1742324400-1742331600@prarc.tech
SUMMARY:PRARC Meeting – Lance VA3LP
DESCRIPTION:Join us for the PRARC Meeting at the Rockland Arena on Hwy 17! The meeting will start at 7:00 PM. This is a great opportunity for all members to come together\, discuss club business\, and participate in important decisions. Everyone is welcome to attend and contribute to the discussions.
URL:https://prarc.tech/calendar/prarc-meeting-lance-va3lp-10/
LOCATION:PRARC Meeting – Lance VA3LP\, 8710 County Road 17\, Rockland\, ON\, K4K 1T2\, Canada
CATEGORIES:PRARC Meeting
ATTACH;FMTTYPE=image/png:https://prarc.tech/wp-content/uploads/2024/11/Rockland-Arena.png
ORGANIZER;CN="Lance - VA3LP":MAILTO:va3lp1@gmail.com
END:VEVENT
BEGIN:VEVENT
DTSTART;TZID=America/Toronto:20250319T190000
DTEND;TZID=America/Toronto:20250319T210000
DTSTAMP:20260421T070437
CREATED:20250223T202225Z
LAST-MODIFIED:20250223T202225Z
UID:1364-1742410800-1742418000@prarc.tech
SUMMARY:Wednesday Night Video – Gilles VE3NPI
DESCRIPTION:Join us every Wednesday night from 7:00 PM to 9:00 PM for our weekly video sessions! These gatherings are designed to foster camaraderie among ham operators in an informal setting. Everyone is welcome to join\, whether you’re licensed or not. \nUnlicensed attendees are encouraged to join and can gain valuable insights into the Amateur Radio community. It’s a great way to connect\, learn\, and enjoy some friendly conversation. See you there!
URL:https://prarc.tech/calendar/wednesday-night-video-gilles-ve3npi/
LOCATION:Wednesday Night Video – Gilles
CATEGORIES:Wednesday Night Video
ORGANIZER;CN="Gilles - VE3NPI":MAILTO:ve3npi@outlook.com
END:VEVENT
BEGIN:VEVENT
DTSTART;TZID=America/Toronto:20250320T190000
DTEND;TZID=America/Toronto:20250320T200000
DTSTAMP:20260421T070437
CREATED:20250223T212036Z
LAST-MODIFIED:20250223T212036Z
UID:1393-1742497200-1742500800@prarc.tech
SUMMARY:Triode Thursday NET – Lance VA3LP
DESCRIPTION:Calling all amateur radio enthusiasts! Join us for the Triode Thursday NET on the VE3PRV repeater\, your ultimate destination for engaging conversations and technical insights. Every Thursday at 7:00 PM\, we welcome operators of all experience levels to share their knowledge\, exchange ideas\, and make new connections within our vibrant community. Whether you’re a seasoned operator or just starting\, something exciting always happens on the airwaves. \nDon’t miss out on this weekly gathering of passionate hams! The Triode Thursday NET offers a welcoming and friendly environment where you can learn\, laugh\, and grow your skills. Mark your calendars and tune in to the VE3PRV repeater every Thursday at 7:00 PM. We can’t wait to hear you on the air!
URL:https://prarc.tech/calendar/triode-thursday-net-lance-va3lp-2/
LOCATION:Triode Thursday Net
CATEGORIES:Triode Thursday Net
ORGANIZER;CN="Lance - VA3LP":MAILTO:va3lp1@gmail.com
END:VEVENT
BEGIN:VEVENT
DTSTART;TZID=America/Toronto:20250325T173000
DTEND;TZID=America/Toronto:20250325T183000
DTSTAMP:20260421T070437
CREATED:20250223T211154Z
LAST-MODIFIED:20250223T211154Z
UID:1387-1742923800-1742927400@prarc.tech
SUMMARY:Friendly’s
DESCRIPTION:Friendly Restaurant & Pizzeria is a beloved family restaurant located at 1765 Laurier Street in Rockland\, ON. Known for its warm atmosphere and friendly service\, it’s a go-to spot for locals and visitors alike. Eli Saikaley\, the owner\, has been in the restaurant industry for over 20 years and has turned his childhood dream into a reality by running this charming eatery. \nThe restaurant offers a wide variety of delicious dishes\, including their famous pizzas made with homemade dough and fresh ingredients. Whether you’re in the mood for a hearty breakfast\, a mouth-watering pizza\, or a comforting meal\, Friendly Restaurant & Pizzeria has something for everyone. Don’t forget to check out their daily and weekly specials for great deals!
URL:https://prarc.tech/calendar/friendlys-3/
LOCATION:Friendly’s\, 1756 Laurier St\, Rockland\, ON\, K4K 1L5\, Canada
CATEGORIES:Restaurant
ATTACH;FMTTYPE=image/webp:https://prarc.tech/wp-content/uploads/2024/11/friendlys.webp
ORGANIZER;CN="Lance - VA3LP":MAILTO:va3lp1@gmail.com
END:VEVENT
BEGIN:VEVENT
DTSTART;TZID=America/Toronto:20250325T190000
DTEND;TZID=America/Toronto:20250325T210000
DTSTAMP:20260421T070437
CREATED:20250223T205959Z
LAST-MODIFIED:20250223T205959Z
UID:1378-1742929200-1742936400@prarc.tech
SUMMARY:PRARC Meeting – Lance VA3LP
DESCRIPTION:Join us for the PRARC Meeting at the Rockland Arena on Hwy 17! The meeting will start at 7:00 PM. This is a great opportunity for all members to come together\, discuss club business\, and participate in important decisions. Everyone is welcome to attend and contribute to the discussions.
URL:https://prarc.tech/calendar/prarc-meeting-lance-va3lp-11/
LOCATION:PRARC Meeting – Lance VA3LP\, 8710 County Road 17\, Rockland\, ON\, K4K 1T2\, Canada
CATEGORIES:PRARC Meeting
ATTACH;FMTTYPE=image/png:https://prarc.tech/wp-content/uploads/2024/11/Rockland-Arena.png
ORGANIZER;CN="Lance - VA3LP":MAILTO:va3lp1@gmail.com
END:VEVENT
BEGIN:VEVENT
DTSTART;TZID=America/Toronto:20250326T190000
DTEND;TZID=America/Toronto:20250326T210000
DTSTAMP:20260421T070437
CREATED:20250223T202629Z
LAST-MODIFIED:20250223T202629Z
UID:1368-1743015600-1743022800@prarc.tech
SUMMARY:Wednesday Night Video – Gilles VE3NPI
DESCRIPTION:Join us every Wednesday night from 7:00 PM to 9:00 PM for our weekly video sessions! These gatherings are designed to foster camaraderie among ham operators in an informal setting. Everyone is welcome to join\, whether you’re licensed or not. \nUnlicensed attendees are encouraged to join and can gain valuable insights into the Amateur Radio community. It’s a great way to connect\, learn\, and enjoy some friendly conversation. See you there!
URL:https://prarc.tech/calendar/wednesday-night-video-gilles-ve3npi-3/
LOCATION:Wednesday Night Video – Gilles
CATEGORIES:Wednesday Night Video
ORGANIZER;CN="Gilles - VE3NPI":MAILTO:ve3npi@outlook.com
END:VEVENT
BEGIN:VEVENT
DTSTART;TZID=America/Toronto:20250327T190000
DTEND;TZID=America/Toronto:20250327T200000
DTSTAMP:20260421T070437
CREATED:20250223T212406Z
LAST-MODIFIED:20250327T220438Z
UID:1397-1743102000-1743105600@prarc.tech
SUMMARY:Triode Thursday NET – Pierre VE2PBS
DESCRIPTION:Calling all amateur radio enthusiasts! Join us for the Triode Thursday NET on the VE3PRV repeater\, your ultimate destination for engaging conversations and technical insights. Every Thursday at 7:00 PM\, we welcome operators of all experience levels to share their knowledge\, exchange ideas\, and make new connections within our vibrant community. Whether you’re a seasoned operator or just starting\, something exciting always happens on the airwaves. \nDon’t miss out on this weekly gathering of passionate hams! The Triode Thursday NET offers a welcoming and friendly environment where you can learn\, laugh\, and grow your skills. Mark your calendars and tune in to the VE3PRV repeater every Thursday at 7:00 PM. We can’t wait to hear you on the air!
URL:https://prarc.tech/calendar/triode-thursday-net-pierre-ve2pbs-3/
LOCATION:Triode Thursday Net
CATEGORIES:Triode Thursday Net
ATTACH;FMTTYPE=image/webp:https://prarc.tech/wp-content/uploads/2025/01/Pierre-VE2PBS-e1737922284770.webp
ORGANIZER;CN="Pierre - VE2PBS":MAILTO:ve2pbs@mailfence.com
END:VEVENT
END:VCALENDAR