BEGIN:VCALENDAR
VERSION:2.0
PRODID:-//prarc.tech - ECPv6.15.20//NONSGML v1.0//EN
CALSCALE:GREGORIAN
METHOD:PUBLISH
X-ORIGINAL-URL:https://prarc.tech
X-WR-CALDESC:Events for prarc.tech
REFRESH-INTERVAL;VALUE=DURATION:PT1H
X-Robots-Tag:noindex
X-PUBLISHED-TTL:PT1H
BEGIN:VTIMEZONE
TZID:America/Toronto
BEGIN:DAYLIGHT
TZOFFSETFROM:-0500
TZOFFSETTO:-0400
TZNAME:EDT
DTSTART:20240310T070000
END:DAYLIGHT
BEGIN:STANDARD
TZOFFSETFROM:-0400
TZOFFSETTO:-0500
TZNAME:EST
DTSTART:20241103T060000
END:STANDARD
BEGIN:DAYLIGHT
TZOFFSETFROM:-0500
TZOFFSETTO:-0400
TZNAME:EDT
DTSTART:20250309T070000
END:DAYLIGHT
BEGIN:STANDARD
TZOFFSETFROM:-0400
TZOFFSETTO:-0500
TZNAME:EST
DTSTART:20251102T060000
END:STANDARD
BEGIN:DAYLIGHT
TZOFFSETFROM:-0500
TZOFFSETTO:-0400
TZNAME:EDT
DTSTART:20260308T070000
END:DAYLIGHT
BEGIN:STANDARD
TZOFFSETFROM:-0400
TZOFFSETTO:-0500
TZNAME:EST
DTSTART:20261101T060000
END:STANDARD
END:VTIMEZONE
BEGIN:VEVENT
DTSTART;TZID=America/Toronto:20250204T173000
DTEND;TZID=America/Toronto:20250204T183000
DTSTAMP:20260421T083124
CREATED:20241221T134148Z
LAST-MODIFIED:20241221T134148Z
UID:894-1738690200-1738693800@prarc.tech
SUMMARY:Boston Pizza
DESCRIPTION:Boston Pizza is a popular family restaurant and sports bar. Known as Canada’s No. 1 casual dining brand\, Boston Pizza offers many delicious menu items\, including gourmet pizzas\, hearty portions of pasta\, juicy burgers\, and their famous BP wings. Whether dining in\, ordering takeout\, or having it delivered\, Boston Pizza provides a casual and enjoyable dining experience for all ages. \nThe restaurant also features a sports bar\, making it the perfect spot to catch your favourite games while enjoying a meal with family and friends. With options for vegetarians\, gluten-free diets\, and kids\, there’s something for everyone on the menu. Don’t forget to check out their daily and weekly specials for great deals!
URL:https://prarc.tech/calendar/boston-pizza-2/
LOCATION:Boston Pizza\, 3002 Richelieu St\, Rockland\, ON\, K4K 0B5\, Canada
CATEGORIES:Restaurant
ATTACH;FMTTYPE=image/webp:https://prarc.tech/wp-content/uploads/2024/11/Boston-Pizza.webp
ORGANIZER;CN="Lance - VA3LP":MAILTO:va3lp1@gmail.com
END:VEVENT
BEGIN:VEVENT
DTSTART;TZID=America/Toronto:20250204T190000
DTEND;TZID=America/Toronto:20250204T210000
DTSTAMP:20260421T083124
CREATED:20241221T133833Z
LAST-MODIFIED:20250204T031620Z
UID:892-1738695600-1738702800@prarc.tech
SUMMARY:PRARC Business Meeting Postponed until the 11th
DESCRIPTION:Join us for the PRARC Business Meeting at the Rockland Arena on Hwy 17! The meeting will start at 7:00 PM. This is a great opportunity for all members to come together\, discuss club business\, and participate in important decisions. Everyone is welcome to attend and contribute to the discussions.
URL:https://prarc.tech/calendar/prarc-business-meeting-lance-va3lp-4/
LOCATION:PRARC Business Meeting – Lance VA3LP\, 8710 County Road 17\, Rockland\, ON\, K4K 1T2\, Canada
CATEGORIES:PRARC Business Meeting
ATTACH;FMTTYPE=image/png:https://prarc.tech/wp-content/uploads/2024/11/Rockland-Arena.png
ORGANIZER;CN="Lance - VA3LP":MAILTO:va3lp1@gmail.com
END:VEVENT
BEGIN:VEVENT
DTSTART;TZID=America/Toronto:20250205T190000
DTEND;TZID=America/Toronto:20250205T210000
DTSTAMP:20260421T083124
CREATED:20241221T133648Z
LAST-MODIFIED:20250204T001546Z
UID:890-1738782000-1738789200@prarc.tech
SUMMARY:Wednesday Night Video – Gilles VE3NPI
DESCRIPTION:Join us every Wednesday night from 7:00 PM to 9:00 PM for our weekly video sessions! These gatherings are designed to foster camaraderie among ham operators in an informal setting. Everyone is welcome to join\, whether you’re licensed or not. \nUnlicensed attendees are encouraged to join and can gain valuable insights into the Amateur Radio community. It’s a great way to connect\, learn\, and enjoy some friendly conversation. See you there!
URL:https://prarc.tech/calendar/wednesday-night-video-gilles-12/
LOCATION:Wednesday Night Video – Gilles
CATEGORIES:Wednesday Night Video
ORGANIZER;CN="Gilles - VE3NPI":MAILTO:ve3npi@outlook.com
END:VEVENT
BEGIN:VEVENT
DTSTART;TZID=America/Toronto:20250206T190000
DTEND;TZID=America/Toronto:20250206T200000
DTSTAMP:20260421T083124
CREATED:20250123T223510Z
LAST-MODIFIED:20250126T200056Z
UID:1283-1738868400-1738872000@prarc.tech
SUMMARY:Triode Thursday NET - Pierre VE2PBS
DESCRIPTION:Calling all amateur radio enthusiasts! Join us for the Triode Thursday NET on the VE3PRV repeater\, your ultimate destination for engaging conversations and technical insights. Every Thursday at 7:00 PM\, we welcome operators of all experience levels to share their knowledge\, exchange ideas\, and make new connections within our vibrant community. Whether you’re a seasoned operator or just starting\, something exciting always happens on the airwaves. \nDon’t miss out on this weekly gathering of passionate hams! The Triode Thursday NET offers a welcoming and friendly environment where you can learn\, laugh\, and grow your skills. Mark your calendars and tune in to the VE3PRV repeater every Thursday at 7:00 PM. We can’t wait to hear you on the air!
URL:https://prarc.tech/calendar/triode-thursday-net-pierre-ve2pbs/
LOCATION:Triode Thursday Net
CATEGORIES:Triode Thursday Net
ATTACH;FMTTYPE=image/webp:https://prarc.tech/wp-content/uploads/2025/01/Pierre-VE2PBS-e1737922284770.webp
END:VEVENT
BEGIN:VEVENT
DTSTART;TZID=America/Toronto:20250211T173000
DTEND;TZID=America/Toronto:20250211T183000
DTSTAMP:20260421T083124
CREATED:20250116T185006Z
LAST-MODIFIED:20250116T185006Z
UID:1097-1739295000-1739298600@prarc.tech
SUMMARY:Friendly’s
DESCRIPTION:Friendly Restaurant & Pizzeria is a beloved family restaurant located at 1765 Laurier Street in Rockland\, ON. Known for its warm atmosphere and friendly service\, it’s a go-to spot for locals and visitors alike. Eli Saikaley\, the owner\, has been in the restaurant industry for over 20 years and has turned his childhood dream into a reality by running this charming eatery. \nThe restaurant offers a wide variety of delicious dishes\, including their famous pizzas made with homemade dough and fresh ingredients. Whether you’re in the mood for a hearty breakfast\, a mouth-watering pizza\, or a comforting meal\, Friendly Restaurant & Pizzeria has something for everyone. Don’t forget to check out their daily and weekly specials for great deals!
URL:https://prarc.tech/calendar/friendlys-2/
LOCATION:Friendly’s\, 1756 Laurier St\, Rockland\, ON\, K4K 1L5\, Canada
CATEGORIES:Restaurant
ATTACH;FMTTYPE=image/webp:https://prarc.tech/wp-content/uploads/2024/11/friendlys.webp
ORGANIZER;CN="Lance - VA3LP":MAILTO:va3lp1@gmail.com
END:VEVENT
BEGIN:VEVENT
DTSTART;TZID=America/Toronto:20250211T190000
DTEND;TZID=America/Toronto:20250211T210000
DTSTAMP:20260421T083124
CREATED:20250116T184137Z
LAST-MODIFIED:20250204T031517Z
UID:1089-1739300400-1739307600@prarc.tech
SUMMARY:PRARC Business Meeting – Lance VA3LP
DESCRIPTION:Join us for the PRARC Business Meeting at the Rockland Arena on Hwy 17! The meeting will start at 7:00 PM. This is a great opportunity for all members to come together\, discuss club business\, and participate in important decisions. Everyone is welcome to attend and contribute to the discussions.
URL:https://prarc.tech/calendar/prarc-meeting-lance-va3lp-6/
LOCATION:PRARC Meeting – Lance VA3LP\, 8710 County Road 17\, Rockland\, ON\, K4K 1T2\, Canada
CATEGORIES:PRARC Meeting
ATTACH;FMTTYPE=image/png:https://prarc.tech/wp-content/uploads/2024/11/Rockland-Arena.png
ORGANIZER;CN="Lance - VA3LP":MAILTO:va3lp1@gmail.com
END:VEVENT
BEGIN:VEVENT
DTSTART;TZID=America/Toronto:20250212T190000
DTEND;TZID=America/Toronto:20250212T210000
DTSTAMP:20260421T083124
CREATED:20250116T183507Z
LAST-MODIFIED:20250204T001633Z
UID:1081-1739386800-1739394000@prarc.tech
SUMMARY:Wednesday Night Video – Gilles VE3NPI
DESCRIPTION:Join us every Wednesday night from 7:00 PM to 9:00 PM for our weekly video sessions! These gatherings are designed to foster camaraderie among ham operators in an informal setting. Everyone is welcome to join\, whether you’re licensed or not. \nUnlicensed attendees are encouraged to join and can gain valuable insights into the Amateur Radio community. It’s a great way to connect\, learn\, and enjoy some friendly conversation. See you there!
URL:https://prarc.tech/calendar/wednesday-night-video-gilles-13/
LOCATION:Wednesday Night Video – Gilles
CATEGORIES:Wednesday Night Video
ORGANIZER;CN="Gilles - VE3NPI":MAILTO:ve3npi@outlook.com
END:VEVENT
BEGIN:VEVENT
DTSTART;TZID=America/Toronto:20250213T190000
DTEND;TZID=America/Toronto:20250213T200000
DTSTAMP:20260421T083124
CREATED:20250126T182301Z
LAST-MODIFIED:20250203T203153Z
UID:1291-1739473200-1739476800@prarc.tech
SUMMARY:Triode Thursday NET – Lewis KC5RJL
DESCRIPTION:Calling all amateur radio enthusiasts! Join us for the Triode Thursday NET on the VE3PRV repeater\, your ultimate destination for engaging conversations and technical insights. Every Thursday at 7:00 PM\, we welcome operators of all experience levels to share their knowledge\, exchange ideas\, and make new connections within our vibrant community. Whether you’re a seasoned operator or just starting\, something exciting always happens on the airwaves. \nDon’t miss out on this weekly gathering of passionate hams! The Triode Thursday NET offers a welcoming and friendly environment where you can learn\, laugh\, and grow your skills. Mark your calendars and tune in to the VE3PRV repeater every Thursday at 7:00 PM. We can’t wait to hear you on the air!
URL:https://prarc.tech/calendar/triode-thursday-net-lewis/
LOCATION:Triode Thursday Net
CATEGORIES:Triode Thursday Net
ATTACH;FMTTYPE=image/webp:https://prarc.tech/wp-content/uploads/2025/01/Lewis-KC5RJL.webp
ORGANIZER;CN="Lewis - KC5RJL":MAILTO:kc5rjl@yahoo.com
END:VEVENT
BEGIN:VEVENT
DTSTART;TZID=America/Toronto:20250218T173000
DTEND;TZID=America/Toronto:20250218T183000
DTSTAMP:20260421T083124
CREATED:20250116T185204Z
LAST-MODIFIED:20250116T185204Z
UID:1099-1739899800-1739903400@prarc.tech
SUMMARY:Benny’s
DESCRIPTION:Benny’s All Day is a charming family restaurant. Known for its friendly atmosphere and delicious food\, Benny’s All Day is a popular spot for locals and visitors alike. The restaurant offers a diverse menu featuring Canadian and North American cuisine\, including all-day breakfast\, smoked meat\, and more. \nWhether you’re in the mood for a hearty breakfast\, a quick lunch\, or a relaxing dinner\, Benny’s All Day has something for everyone. The restaurant also offers takeout\, delivery\, and curbside pickup options\, making it a convenient choice for any meal. With its cozy ambiance and great service\, Benny’s All Day is the perfect place to enjoy a meal with family and friends.
URL:https://prarc.tech/calendar/bennys-3/
LOCATION:Benny’s\, 2370 Laurier St\, Rockland\, ON\, K4K 1L5\, Canada
CATEGORIES:Restaurant
ATTACH;FMTTYPE=image/webp:https://prarc.tech/wp-content/uploads/2024/11/bennys.webp
ORGANIZER;CN="Lance - VA3LP":MAILTO:va3lp1@gmail.com
END:VEVENT
BEGIN:VEVENT
DTSTART;TZID=America/Toronto:20250218T190000
DTEND;TZID=America/Toronto:20250218T210000
DTSTAMP:20260421T083124
CREATED:20250116T184258Z
LAST-MODIFIED:20250116T184258Z
UID:1091-1739905200-1739912400@prarc.tech
SUMMARY:PRARC Meeting – Lance VA3LP
DESCRIPTION:Join us for the PRARC Meeting at the Rockland Arena on Hwy 17! The meeting will start at 7:00 PM. This is a great opportunity for all members to come together\, discuss club business\, and participate in important decisions. Everyone is welcome to attend and contribute to the discussions.
URL:https://prarc.tech/calendar/prarc-meeting-lance-va3lp-7/
LOCATION:PRARC Meeting – Lance VA3LP\, 8710 County Road 17\, Rockland\, ON\, K4K 1T2\, Canada
CATEGORIES:PRARC Meeting
ATTACH;FMTTYPE=image/png:https://prarc.tech/wp-content/uploads/2024/11/Rockland-Arena.png
ORGANIZER;CN="Lance - VA3LP":MAILTO:va3lp1@gmail.com
END:VEVENT
BEGIN:VEVENT
DTSTART;TZID=America/Toronto:20250219T190000
DTEND;TZID=America/Toronto:20250219T210000
DTSTAMP:20260421T083124
CREATED:20250116T183633Z
LAST-MODIFIED:20250204T001704Z
UID:1083-1739991600-1739998800@prarc.tech
SUMMARY:Wednesday Night Video – Gilles VE3NPI
DESCRIPTION:Join us every Wednesday night from 7:00 PM to 9:00 PM for our weekly video sessions! These gatherings are designed to foster camaraderie among ham operators in an informal setting. Everyone is welcome to join\, whether you’re licensed or not. \nUnlicensed attendees are encouraged to join and can gain valuable insights into the Amateur Radio community. It’s a great way to connect\, learn\, and enjoy some friendly conversation. See you there!
URL:https://prarc.tech/calendar/wednesday-night-video-gilles-14/
LOCATION:Wednesday Night Video – Gilles
CATEGORIES:Wednesday Night Video
ORGANIZER;CN="Gilles - VE3NPI":MAILTO:ve3npi@outlook.com
END:VEVENT
BEGIN:VEVENT
DTSTART;TZID=America/Toronto:20250220T190000
DTEND;TZID=America/Toronto:20250220T200000
DTSTAMP:20260421T083124
CREATED:20250203T202643Z
LAST-MODIFIED:20250203T202643Z
UID:1311-1740078000-1740081600@prarc.tech
SUMMARY:Triode Thursday NET – Lance VA3LP
DESCRIPTION:Calling all amateur radio enthusiasts! Join us for the Triode Thursday NET on the VE3PRV repeater\, your ultimate destination for engaging conversations and technical insights. Every Thursday at 7:00 PM\, we welcome operators of all experience levels to share their knowledge\, exchange ideas\, and make new connections within our vibrant community. Whether you’re a seasoned operator or just starting\, something exciting always happens on the airwaves. \nDon’t miss out on this weekly gathering of passionate hams! The Triode Thursday NET offers a welcoming and friendly environment where you can learn\, laugh\, and grow your skills. Mark your calendars and tune in to the VE3PRV repeater every Thursday at 7:00 PM. We can’t wait to hear you on the air!
URL:https://prarc.tech/calendar/triode-thursday-net-lance-va3lp/
LOCATION:Triode Thursday Net
CATEGORIES:Triode Thursday Net
ORGANIZER;CN="Lance - VA3LP":MAILTO:va3lp1@gmail.com
END:VEVENT
BEGIN:VEVENT
DTSTART;TZID=America/Toronto:20250225T173000
DTEND;TZID=America/Toronto:20250225T183000
DTSTAMP:20260421T083124
CREATED:20250116T185346Z
LAST-MODIFIED:20250116T185346Z
UID:1101-1740504600-1740508200@prarc.tech
SUMMARY:Broadway
DESCRIPTION:Broadway Bar & Grill is a popular casual dining restaurant. Known for its family-friendly atmosphere and exceptional value\, Broadway Bar & Grill is a go-to spot for locals and visitors alike. The restaurant offers a diverse menu featuring American and North American cuisine\, including breakfast\, lunch\, dinner\, and late-night options. \nWhether you’re in the mood for a hearty breakfast\, a delicious burger\, or a comforting meal\, Broadway Bar & Grill has something for everyone. The restaurant also boasts a cozy bar area\, perfect for enjoying a drink while watching your favourite sports teams. With its friendly staff and welcoming environment\, Broadway Bar & Grill is a great place to gather with family and friends.
URL:https://prarc.tech/calendar/broadway-3/
LOCATION:Broadway\, 6-2756 Chamberland St\, Rockland\, ON\, K4K 0B2\, Canada
CATEGORIES:Restaurant
ATTACH;FMTTYPE=image/webp:https://prarc.tech/wp-content/uploads/2024/11/Broadway.webp
ORGANIZER;CN="Lance - VA3LP":MAILTO:va3lp1@gmail.com
END:VEVENT
BEGIN:VEVENT
DTSTART;TZID=America/Toronto:20250225T190000
DTEND;TZID=America/Toronto:20250225T210000
DTSTAMP:20260421T083124
CREATED:20250116T184424Z
LAST-MODIFIED:20250116T184424Z
UID:1093-1740510000-1740517200@prarc.tech
SUMMARY:PRARC Meeting – Lance VA3LP
DESCRIPTION:Join us for the PRARC Meeting at the Rockland Arena on Hwy 17! The meeting will start at 7:00 PM. This is a great opportunity for all members to come together\, discuss club business\, and participate in important decisions. Everyone is welcome to attend and contribute to the discussions.
URL:https://prarc.tech/calendar/prarc-meeting-lance-va3lp-8/
LOCATION:PRARC Meeting – Lance VA3LP\, 8710 County Road 17\, Rockland\, ON\, K4K 1T2\, Canada
CATEGORIES:PRARC Meeting
ATTACH;FMTTYPE=image/png:https://prarc.tech/wp-content/uploads/2024/11/Rockland-Arena.png
ORGANIZER;CN="Lance - VA3LP":MAILTO:va3lp1@gmail.com
END:VEVENT
BEGIN:VEVENT
DTSTART;TZID=America/Toronto:20250226T190000
DTEND;TZID=America/Toronto:20250226T210000
DTSTAMP:20260421T083124
CREATED:20250116T183755Z
LAST-MODIFIED:20250204T001734Z
UID:1085-1740596400-1740603600@prarc.tech
SUMMARY:Wednesday Night Video – Gilles VE3NPI
DESCRIPTION:Join us every Wednesday night from 7:00 PM to 9:00 PM for our weekly video sessions! These gatherings are designed to foster camaraderie among ham operators in an informal setting. Everyone is welcome to join\, whether you’re licensed or not. \nUnlicensed attendees are encouraged to join and can gain valuable insights into the Amateur Radio community. It’s a great way to connect\, learn\, and enjoy some friendly conversation. See you there!
URL:https://prarc.tech/calendar/wednesday-night-video-gilles-15/
LOCATION:Wednesday Night Video – Gilles
CATEGORIES:Wednesday Night Video
ORGANIZER;CN="Gilles - VE3NPI":MAILTO:ve3npi@outlook.com
END:VEVENT
BEGIN:VEVENT
DTSTART;TZID=America/Toronto:20250227T190000
DTEND;TZID=America/Toronto:20250227T200000
DTSTAMP:20260421T083124
CREATED:20250203T202828Z
LAST-MODIFIED:20250203T202828Z
UID:1314-1740682800-1740686400@prarc.tech
SUMMARY:Triode Thursday NET – Pete VE3YPD
DESCRIPTION:Calling all amateur radio enthusiasts! Join us for the Triode Thursday NET on the VE3PRV repeater\, your ultimate destination for engaging conversations and technical insights. Every Thursday at 7:00 PM\, we welcome operators of all experience levels to share their knowledge\, exchange ideas\, and make new connections within our vibrant community. Whether you’re a seasoned operator or just starting\, something exciting always happens on the airwaves. \nDon’t miss out on this weekly gathering of passionate hams! The Triode Thursday NET offers a welcoming and friendly environment where you can learn\, laugh\, and grow your skills. Mark your calendars and tune in to the VE3PRV repeater every Thursday at 7:00 PM. We can’t wait to hear you on the air!
URL:https://prarc.tech/calendar/triode-thursday-net-pete-ve3ypd-2/
LOCATION:Triode Thursday Net
CATEGORIES:Triode Thursday Net
ATTACH;FMTTYPE=image/webp:https://prarc.tech/wp-content/uploads/2025/01/Pete-VE3YPD-e1737922067930.webp
ORGANIZER;CN="Pete - VE3YPD":MAILTO:ve3ypd@gmail.com
END:VEVENT
END:VCALENDAR