BEGIN:VCALENDAR
VERSION:2.0
PRODID:-//prarc.tech - ECPv6.15.20//NONSGML v1.0//EN
CALSCALE:GREGORIAN
METHOD:PUBLISH
X-ORIGINAL-URL:https://prarc.tech
X-WR-CALDESC:Events for prarc.tech
REFRESH-INTERVAL;VALUE=DURATION:PT1H
X-Robots-Tag:noindex
X-PUBLISHED-TTL:PT1H
BEGIN:VTIMEZONE
TZID:America/Toronto
BEGIN:DAYLIGHT
TZOFFSETFROM:-0500
TZOFFSETTO:-0400
TZNAME:EDT
DTSTART:20240310T070000
END:DAYLIGHT
BEGIN:STANDARD
TZOFFSETFROM:-0400
TZOFFSETTO:-0500
TZNAME:EST
DTSTART:20241103T060000
END:STANDARD
BEGIN:DAYLIGHT
TZOFFSETFROM:-0500
TZOFFSETTO:-0400
TZNAME:EDT
DTSTART:20250309T070000
END:DAYLIGHT
BEGIN:STANDARD
TZOFFSETFROM:-0400
TZOFFSETTO:-0500
TZNAME:EST
DTSTART:20251102T060000
END:STANDARD
BEGIN:DAYLIGHT
TZOFFSETFROM:-0500
TZOFFSETTO:-0400
TZNAME:EDT
DTSTART:20260308T070000
END:DAYLIGHT
BEGIN:STANDARD
TZOFFSETFROM:-0400
TZOFFSETTO:-0500
TZNAME:EST
DTSTART:20261101T060000
END:STANDARD
END:VTIMEZONE
BEGIN:VEVENT
DTSTART;TZID=America/Toronto:20250610T190000
DTEND;TZID=America/Toronto:20250610T210000
DTSTAMP:20260421T062752
CREATED:20250529T125549Z
LAST-MODIFIED:20250604T173646Z
UID:2243-1749582000-1749589200@prarc.tech
SUMMARY:PRARC AGM Meeting
DESCRIPTION:Annual General Meeting (AGM) \n📅 Date: June 6\, 2025\n🕙 Time: 7:00 pm\n📍 Location:  Rockland Arena on Hwy 17! \nJoin us for our yearly AGM meeting\, where we’ll reflect on past achievements and set our sights on the exciting year ahead. This is a great opportunity for all members to contribute\, share their perspectives\, and help shape the future of our club. \nKey Agenda Items: \n\nReview of last year’s accomplishments\nPlans and goals for the upcoming year\nVoting to fill the President and Secretary positions\n\nYour voice matters! Whether attending in person or via video link\, we encourage all members to participate. \nSee you there!
URL:https://prarc.tech/calendar/prarc-meeting-lance-va3lp-20/
LOCATION:PRARC Meeting – Lance VA3LP\, 8710 County Road 17\, Rockland\, ON\, K4K 1T2\, Canada
CATEGORIES:PRARC Meeting
ATTACH;FMTTYPE=image/png:https://prarc.tech/wp-content/uploads/2024/11/Rockland-Arena.png
ORGANIZER;CN="Lance - VA3LP":MAILTO:va3lp1@gmail.com
END:VEVENT
BEGIN:VEVENT
DTSTART;TZID=America/Toronto:20250617T190000
DTEND;TZID=America/Toronto:20250617T210000
DTSTAMP:20260421T062752
CREATED:20250529T125721Z
LAST-MODIFIED:20250529T125809Z
UID:2245-1750186800-1750194000@prarc.tech
SUMMARY:PRARC Meeting – Lance VA3LP
DESCRIPTION:Join us for the PRARC Meeting at the Rockland Arena on Hwy 17! The meeting will start at 7:00 PM. This is a great opportunity for all members to come together\, discuss club business\, and participate in important decisions. Everyone is welcome to attend and contribute to the discussions.
URL:https://prarc.tech/calendar/prarc-meeting-lance-va3lp-21/
LOCATION:PRARC Meeting – Lance VA3LP\, 8710 County Road 17\, Rockland\, ON\, K4K 1T2\, Canada
CATEGORIES:PRARC Meeting
ATTACH;FMTTYPE=image/png:https://prarc.tech/wp-content/uploads/2024/11/Rockland-Arena.png
ORGANIZER;CN="Lance - VA3LP":MAILTO:va3lp1@gmail.com
END:VEVENT
BEGIN:VEVENT
DTSTART;TZID=America/Toronto:20250624T190000
DTEND;TZID=America/Toronto:20250624T210000
DTSTAMP:20260421T062752
CREATED:20250529T130031Z
LAST-MODIFIED:20250529T130031Z
UID:2247-1750791600-1750798800@prarc.tech
SUMMARY:PRARC Meeting – Lance VA3LP
DESCRIPTION:Join us for the PRARC Meeting at the Rockland Arena on Hwy 17! The meeting will start at 7:00 PM. This is a great opportunity for all members to come together\, discuss club business\, and participate in important decisions. Everyone is welcome to attend and contribute to the discussions.
URL:https://prarc.tech/calendar/prarc-meeting-lance-va3lp-22/
LOCATION:PRARC Meeting – Lance VA3LP\, 8710 County Road 17\, Rockland\, ON\, K4K 1T2\, Canada
CATEGORIES:PRARC Meeting
ATTACH;FMTTYPE=image/png:https://prarc.tech/wp-content/uploads/2024/11/Rockland-Arena.png
ORGANIZER;CN="Lance - VA3LP":MAILTO:va3lp1@gmail.com
END:VEVENT
END:VCALENDAR